BEGIN:VCALENDAR
VERSION:2.0
METHOD:PUBLISH
PRODID:-//Telerik Inc.//Sitefinity CMS 14.4//EN
BEGIN:VTIMEZONE
TZID:Eastern Standard Time
BEGIN:STANDARD
DTSTART:20251102T020000
RRULE:FREQ=YEARLY;BYDAY=1SU;BYHOUR=2;BYMINUTE=0;BYMONTH=11
TZNAME:Eastern Standard Time
TZOFFSETFROM:-0400
TZOFFSETTO:-0500
END:STANDARD
BEGIN:DAYLIGHT
DTSTART:20250301T020000
RRULE:FREQ=YEARLY;BYDAY=2SU;BYHOUR=2;BYMINUTE=0;BYMONTH=3
TZNAME:Eastern Daylight Time
TZOFFSETFROM:-0500
TZOFFSETTO:-0400
END:DAYLIGHT
END:VTIMEZONE
BEGIN:VEVENT
DESCRIPTION:Join us at the LMJ Memorial Golf Outing on Thursday\, May 21st\
 , in Harrison\, NY. Please click the "Register Now" button to access the e
 vent website for further information and to complete your registration.
DTEND:20260521T230000Z
DTSTAMP:20260422T113622Z
DTSTART:20260521T140000Z
LOCATION:NY 10528\,US\,Harrison\,123 North St
SEQUENCE:0
SUMMARY:LMJ Memorial Golf Outing
UID:RFCALITEM639124365829795779
X-ALT-DESC;FMTTYPE=text/html:<p>Join us at the LMJ Memorial Golf Outing on 
 Thursday\, May 21st\, in Harrison\, NY. Please click the "Register Now" bu
 tton to access the event website for further information and to complete y
 our registration.</p>
END:VEVENT
END:VCALENDAR
