BEGIN:VCALENDAR
VERSION:2.0
METHOD:PUBLISH
PRODID:-//Telerik Inc.//Sitefinity CMS 14.4//EN
BEGIN:VTIMEZONE
TZID:Pacific Standard Time
BEGIN:STANDARD
DTSTART:20251102T020000
RRULE:FREQ=YEARLY;BYDAY=1SU;BYHOUR=2;BYMINUTE=0;BYMONTH=11
TZNAME:Pacific Standard Time
TZOFFSETFROM:-0700
TZOFFSETTO:-0800
END:STANDARD
BEGIN:DAYLIGHT
DTSTART:20250301T020000
RRULE:FREQ=YEARLY;BYDAY=2SU;BYHOUR=2;BYMINUTE=0;BYMONTH=3
TZNAME:Pacific Daylight Time
TZOFFSETFROM:-0800
TZOFFSETTO:-0700
END:DAYLIGHT
END:VTIMEZONE
BEGIN:VEVENT
DESCRIPTION:Join the virtual meeting for the&nbsp\;Central Valley Pulmonary
  Fibrosis (CVPF) Support Group - Sacramento on Monday\, May 11 from 2:00 p
 .m. - 3:30 p.m. PT.&nbsp\;Guest speaker Susan Jacobs\, RN\, MS\, FAAN\, AT
 SF\,  will present from 2:00 pm to 3:00 pm on  supplemental oxygen\, diffe
 rent oxygen therapy systems\, and traveling with supplemental oxygen.&nbsp
 \;Please email any questions or topics you would like Susan to cover to Me
 igan Wu at myjwu@health.ucdavis.edu&nbsp\;before the meeting.To join virtu
 ally:Click here to join a Zoom virtual meetingMeeting ID: 998 3478 3217Pas
 scode: 315553For more information\, contact a support group leader from th
 e UC Davis Medical Center: Maya Juarez\, Meigan Wu or Sarah Natera. Email:
  mmjuarez@health.ucdavis.edu / Phone: (916) 734-3643 or (916) 572-2935.&nb
 sp\;
DTEND:20260511T223000Z
DTSTAMP:20260419T145219Z
DTSTART:20260511T210000Z
LOCATION:
SEQUENCE:0
SUMMARY:Central Valley Pulmonary Fibrosis Support Group - Sacramento Meetin
 g | Virtual
UID:RFCALITEM639121891395724205
X-ALT-DESC;FMTTYPE=text/html:<p>Join the <strong>virtual meeting</strong> f
 or the<strong>&nbsp\;</strong>Central Valley Pulmonary Fibrosis (CVPF) Sup
 port Group - Sacramento on Monday\, May 11 from 2:00 p.m. - 3:30 p.m. PT.&
 nbsp\;Guest speaker Susan Jacobs\, RN\, MS\, FAAN\, ATSF\,  will present f
 rom 2:00 pm to 3:00 pm on  supplemental oxygen\, different oxygen therapy 
 systems\, and traveling with supplemental oxygen.&nbsp\;Please email any q
 uestions or topics you would like Susan to cover to Meigan Wu at <a target
 ="_blank" href="mailto:myjwu@health.ucdavis.edu">myjwu@health.ucdavis.edu<
 /a>&nbsp\;before the meeting.</p><p>To join virtually:</p><p dir="ltr"><a 
 href="https://ucdavishealth.zoom.us/j/99834783217?pwd=ZEpiY0pLVTV3RUMrbVNN
 dDBLTlJXQT09">Click here to join a Zoom virtual meeting</a></p><p dir="ltr
 ">Meeting ID: 998 3478 3217</p><p dir="ltr">Passcode: 315553</p><p dir="lt
 r">For more information\, contact a support group leader from the UC Davis
  Medical Center: Maya Juarez\, Meigan Wu or Sarah Natera. Email: <a href="
 mailto:mmjuarez@health.ucdavis.edu">mmjuarez@health.ucdavis.edu</a> / Phon
 e: (916) 734-3643 or (916) 572-2935.</p><div><br></div><p>&nbsp\;</p>
END:VEVENT
END:VCALENDAR
